BEGIN:VCALENDAR
VERSION:2.0
PRODID:-//hacksw/handcal//NONSGML v1.0//EN
CALSCALE:GREGORIAN
BEGIN:VTIMEZONE
TZID:America/New_York
BEGIN:DAYLIGHT
TZOFFSETFROM:-0600
TZNAME:MDT
TZOFFSETTO:-0600
END:DAYLIGHT
END:VTIMEZONE
DTSTAMP:20260421T084635Z
UID:69e771ab9d287
BEGIN:VEVENT
LOCATION:Steelman Library, 1000 Longfellow Blvd., Lakeland, FL US 33801
DESCRIPTION:<p>Today’s event is several creative workshops! Please join us for fun and fellowship while taking a break from studying!</p>
DTSTART;TZID=America/New_York:20260424T070000
DTEND;TZID=America/New_York:20260424T203000
SUMMARY:Spring DeStress Fest
URL;VALUE=URI:/destress-fest-0
END:VEVENT
END:VCALENDAR