BEGIN:VCALENDAR
VERSION:2.0
PRODID:-//hacksw/handcal//NONSGML v1.0//EN
CALSCALE:GREGORIAN
BEGIN:VTIMEZONE
TZID:America/New_York
BEGIN:DAYLIGHT
TZOFFSETFROM:-0600
TZNAME:MDT
TZOFFSETTO:-0600
END:DAYLIGHT
END:VTIMEZONE
DTSTAMP:20260423T104408Z
UID:69ea3038a22c7
BEGIN:VEVENT
DESCRIPTION:<p>Have a great summer!</p>
DTSTART;TZID=America/New_York:20260715T120000
DTEND;TZID=America/New_York:20260715T230000
SUMMARY:Summer Closure
URL;VALUE=URI:/summer-closure-45
END:VEVENT
END:VCALENDAR